BEGIN:VCALENDAR
VERSION:2.0
PRODID:-//Path2Prajñā - ECPv6.0.5//NONSGML v1.0//EN
CALSCALE:GREGORIAN
METHOD:PUBLISH
X-WR-CALNAME:Path2Prajñā
X-ORIGINAL-URL:https://path2prajna.com
X-WR-CALDESC:Events for Path2Prajñā
REFRESH-INTERVAL;VALUE=DURATION:PT1H
X-Robots-Tag:noindex
X-PUBLISHED-TTL:PT1H
BEGIN:VTIMEZONE
TZID:UTC
BEGIN:STANDARD
TZOFFSETFROM:+0000
TZOFFSETTO:+0000
TZNAME:UTC
DTSTART:20210101T000000
END:STANDARD
END:VTIMEZONE
BEGIN:VEVENT
DTSTART;TZID=UTC:20211114T140000
DTEND;TZID=UTC:20211114T150000
DTSTAMP:20260421T081535
CREATED:20211111T094932Z
LAST-MODIFIED:20211111T095142Z
UID:2677-1636898400-1636902000@path2prajna.com
SUMMARY:Children between 13 to 16 years of age: Communicate Effectively with your Elders
DESCRIPTION:👉🏼If your child is between 13 to 16 years of age\, then this message is for YOU. \nI am Leena R. Prabhoo and I help students to Activate their Full Potential 💪🏼🦸🏻‍♂️🦸🏻‍♀️😊. \nIn my next batch\, titled Communicate Effectively with your Elders\,😮 I will be empowering children between the age group of 13 to 16 years\, to share with their parent/s\, one fear they want to tell you but are not able to tell you\, in just 3 Hours \, without being afraid of you or its consequences\, with just 20 mins/day for 5 days\, in Live Zoom & whatsapp sessions . \nI am looking for ONLY 20 participants. 👌🏼🥳 \nAs a parent \, if you are keen to know more about this program\, click here to join the group for FREE.\nhttps://chat.whatsapp.com/DYtFSMfryRa2TM196yvJA5\nLast date of joining this group is 1.00 PM\, 14th Nov 2021. 🏃🏻‍♂️🏃🏻‍♀️ \nFeel free to share this invite with other parents who might be needing this program. \nHave a fabulous day. 🥳💐 \nLeena R. Prabhoo\,\nSchool Counselor (Boston\, 1990)\,\nTime Traveler\, Certified Past Life Regression Therapist\,\nPrajñā Strategist\, Amazon #1 Bestselling Author\, Spiritual & Mental Health Coach\, Certified Animal Telepathy Communicator. Top 100 International Award Winner. www.path2prajna.com \nLeena R PrabhooAmazon #1 Bestselling Author\, Prajñā Strategist\, Spiritual & Mental Health Coach\, Recipient of TOP 100 HEALTHCARE LEADERS AWARD (DUBAI)\, Prajñā Strategist\, Spiritual & Mental Health Coach\, Certified Past Life Regression Therapist\, Certified Telepathic Communicator & International Speaker \nOver the last 30 years\, I have been helping people get on to their Path to Prajñā so that they can skillfully & effectively handle “Challenges” which Life throws at them. I Coach people to Navigate Life Skillfully to Live Life Successfully so that you can Be What you CAN be. Grab your copy of my Amazon #1 Bestselling book My Path to Prajñā https://www.amazon.in/My-Path-Prajna-Leena-Prabhoo/dp/1635354544/
URL:https://path2prajna.com/event/children-between-13-to-16-years-of-age-communicate-effectively-with-your-elders/
LOCATION:Online
ATTACH;FMTTYPE=image/png:https://path2prajna.com/wp-content/uploads/2021/11/Communicate-Effectively-with-your-Elders.png
END:VEVENT
END:VCALENDAR