BEGIN:VCALENDAR
VERSION:2.0
PRODID:-//Path2Prajñā - ECPv6.0.5//NONSGML v1.0//EN
CALSCALE:GREGORIAN
METHOD:PUBLISH
X-WR-CALNAME:Path2Prajñā
X-ORIGINAL-URL:https://path2prajna.com
X-WR-CALDESC:Events for Path2Prajñā
REFRESH-INTERVAL;VALUE=DURATION:PT1H
X-Robots-Tag:noindex
X-PUBLISHED-TTL:PT1H
BEGIN:VTIMEZONE
TZID:Asia/Kolkata
BEGIN:STANDARD
TZOFFSETFROM:+0530
TZOFFSETTO:+0530
TZNAME:IST
DTSTART:20210101T000000
END:STANDARD
END:VTIMEZONE
BEGIN:VEVENT
DTSTART;TZID=Asia/Kolkata:20210207T100000
DTEND;TZID=Asia/Kolkata:20210207T113000
DTSTAMP:20260423T052101
CREATED:20210131T030837Z
LAST-MODIFIED:20210131T043617Z
UID:1180-1612692000-1612697400@path2prajna.com
SUMMARY:Activate YOUR FULL POTENTIAL-FREE MASTERCLASS SERIES with Leena R. Prabhoo
DESCRIPTION:Hello Beautiful Soul\, \nBeing a hard core Psychologist\, I never knew I had the potential to heal my clients using Chakras\, Past Lives and Energy Fields. \nI feel my journey to Activate my FULL POTENTIAL has just begun. Who knows what else is in store for me. But the discovery and journey is fascinating\, to say the least. \nAfter setting on this Path\, my instincts tell me that I can help at-least a million people to ACTIVATE THEIR FULL POTENTIAL in the next 5 years. \nWith this in mind\, I am launching a series of FREE Weekly Master Classes from 07-02-2021 to do just that: assist You to Activate YOUR Full Potential. \nFact is\, all humans\, including you and me\, are operating on ONLY 10% of our brains’ full potential. How about taking it up a notch to 11 %? \nIf you are up to ACTIVATING YOUR FULL POTENTIAL\, with me\, click here for more details and to register for this one of its kind upcoming series of Master Classes. https://bit.ly/3tcoOYz \nFeel free to share this invite with friends and family. \nREGISTER BEFORE 5TH FEB 2021 TO GET FREE ACCESS TO 52 FREE MASTER CLASSES WITH ME.  \nSee you soon. \nLeena R Prabhoo \nGod Bless \nLeena R PrabhooAmazon #1 Bestselling Author\, Prajñā Strategist\, Spiritual & Mental Health Coach\, Recipient of TOP 100 HEALTHCARE LEADERS AWARD (DUBAI)\, Prajñā Strategist\, Spiritual & Mental Health Coach\, Certified Past Life Regression Therapist\, Certified Telepathic Communicator & International Speaker \nOver the last 30 years\, I have been helping people get on to their Path to Prajñā so that they can skillfully & effectively handle “Challenges” which Life throws at them. I Coach people to Navigate Life Skillfully to Live Life Successfully so that you can Be What you CAN be. Grab your copy of my Amazon #1 Bestselling book My Path to Prajñā https://www.amazon.in/My-Path-Prajna-Leena-Prabhoo/dp/1635354544/
URL:https://path2prajna.com/event/activate-your-full-potential-free-masterclass-series-with-leena-r-prabhoo/
LOCATION:Online
CATEGORIES:FREE MASTERCLASS SERIES
ATTACH;FMTTYPE=image/jpeg:https://path2prajna.com/wp-content/uploads/2021/01/activate-leena.jpg
ORGANIZER;CN="Path%20to%20Praj%C3%B1%C4%81%20Solutions%20LLP":MAILTO:contact@path2prajna.com
END:VEVENT
END:VCALENDAR